BEGIN:VCALENDAR
VERSION:2.0
PRODID:-//Plone.org//NONSGML plone.app.event//EN
X-WR-TIMEZONE:Europe/Copenhagen
BEGIN:VEVENT
SUMMARY:2nd Biogeographical Evaluation Seminar (Emerald Network)
DTSTART;TZID=Europe/Copenhagen;VALUE=DATE-TIME:20180523T093000
DTEND;TZID=Europe/Copenhagen;VALUE=DATE-TIME:20180524T223000
DTSTAMP;VALUE=DATE-TIME:20210604T044332Z
UID:e0121404e29044f2a0ca18a4948a643e@eni-seis.eionet.europa.eu
CREATED;VALUE=DATE-TIME:20180206T144351Z
LAST-MODIFIED;VALUE=DATE-TIME:20180524T094840Z
URL:https://eni-seis-staging.eionet.europa.eu/east/areas-of-work/communica
 tion/events/project-related-events/2nd-biogeographical-evaluation-seminar-
 emerald-network
END:VEVENT
BEGIN:VTIMEZONE
TZID:Europe/Copenhagen
X-LIC-LOCATION:Europe/Copenhagen
BEGIN:DAYLIGHT
DTSTART;VALUE=DATE-TIME:20180325T030000
TZNAME:CEST
TZOFFSETFROM:+0100
TZOFFSETTO:+0200
END:DAYLIGHT
END:VTIMEZONE
END:VCALENDAR
