BEGIN:VCALENDAR
VERSION:2.0
PRODID:-//Plone.org//NONSGML plone.app.event//EN
X-WR-TIMEZONE:Europe/Copenhagen
BEGIN:VEVENT
SUMMARY:Consultation visit in Georgia  Inception phase of the ENI SEIS II 
 East project
DTSTART;TZID=Europe/Copenhagen;VALUE=DATE-TIME:20161108T130000
DTEND;TZID=Europe/Copenhagen;VALUE=DATE-TIME:20161110T140000
DTSTAMP;VALUE=DATE-TIME:20210604T044800Z
UID:95b63343d3b7403ebcf8242e7e19a3b1@eni-seis-staging.eionet.europa.eu
CATEGORIES:featured-land
CREATED;VALUE=DATE-TIME:20200416T114436Z
DESCRIPTION:The meeting has a broader scope\, it included the feasibility 
 mission related to the implementation of CLC pilot
LAST-MODIFIED;VALUE=DATE-TIME:20200423T144134Z
URL:https://eni-seis-staging.eionet.europa.eu/east/areas-of-work/communica
 tion/events/project-related-events/consultation-visit-in-georgia-inception
 -phase-of-the-eni-seis-ii-east-project
END:VEVENT
BEGIN:VTIMEZONE
TZID:Europe/Copenhagen
X-LIC-LOCATION:Europe/Copenhagen
BEGIN:STANDARD
DTSTART;VALUE=DATE-TIME:20161030T020000
TZNAME:CET
TZOFFSETFROM:+0200
TZOFFSETTO:+0100
END:STANDARD
END:VTIMEZONE
END:VCALENDAR
