BEGIN:VCALENDAR
VERSION:2.0
PRODID:-//Plone.org//NONSGML plone.app.event//EN
X-WR-TIMEZONE:Europe/Copenhagen
BEGIN:VEVENT
SUMMARY:Belarus: Hands-on training for the implementation of the water com
 ponent of the ENI SEIS II East project
DTSTART;VALUE=DATE:20180312
DTEND;VALUE=DATE:20180317
DTSTAMP;VALUE=DATE-TIME:20210604T044259Z
UID:2878ac62690f4e1abd0a7b054b2e3492@eni-seis.eionet.europa.eu
CREATED;VALUE=DATE-TIME:20180111T085814Z
LAST-MODIFIED;VALUE=DATE-TIME:20180314T082034Z
URL:https://eni-seis-staging.eionet.europa.eu/east/areas-of-work/communica
 tion/events/project-related-events/copy3_of_hands-on-training-for-the-impl
 ementation-of-the-water-component-of-the-eni-seis-ii-east-project-in-georg
 ia
END:VEVENT
END:VCALENDAR
