BEGIN:VCALENDAR
VERSION:2.0
PRODID:-//Plone.org//NONSGML plone.app.event//EN
X-WR-TIMEZONE:Europe/Copenhagen
BEGIN:VEVENT
SUMMARY:Hands-on training for the implementation of the water component of
  the ENI SEIS II East project in Georgia
DTSTART;VALUE=DATE:20180115
DTEND;VALUE=DATE:20180119
DTSTAMP;VALUE=DATE-TIME:20210604T044911Z
UID:2878ac62690f4e1abd0a7b054b2e3492@eni-seis.eionet.europa.eu
CREATED;VALUE=DATE-TIME:20180111T085814Z
LAST-MODIFIED;VALUE=DATE-TIME:20180214T112720Z
URL:https://eni-seis-staging.eionet.europa.eu/east/areas-of-work/communica
 tion/events/project-related-events/hands-on-training-for-the-implementatio
 n-of-the-water-component-of-the-eni-seis-ii-east-project-in-georgia
END:VEVENT
END:VCALENDAR
