BEGIN:VCALENDAR
VERSION:2.0
PRODID:-//Plone.org//NONSGML plone.app.event//EN
X-WR-TIMEZONE:Europe/Copenhagen
BEGIN:VEVENT
SUMMARY:Inception phase country visit Belarus - 06/07 September 2016
DTSTART;VALUE=DATE:20160906
DTEND;VALUE=DATE:20160908
DTSTAMP;VALUE=DATE-TIME:20210604T044121Z
UID:20623a4f1928406ea0a617fef08381b7@eni-seis.eionet.europa.eu
CREATED;VALUE=DATE-TIME:20161202T094028Z
DESCRIPTION:Inception phase country visit Belarus - 06/07 September 2016
LAST-MODIFIED;VALUE=DATE-TIME:20170814T090151Z
URL:https://eni-seis-staging.eionet.europa.eu/east/areas-of-work/communica
 tion/events/project-related-events/inception-phase-country-visit-belarus-0
 6-07-september-2016
END:VEVENT
END:VCALENDAR
