BEGIN:VCALENDAR
VERSION:2.0
PRODID:-//Plone.org//NONSGML plone.app.event//EN
X-WR-TIMEZONE:Europe/Copenhagen
BEGIN:VEVENT
SUMMARY:Thematic workshop on the implementation of the water component of 
 the ENI SEIS II East project in Belarus
DTSTART;VALUE=DATE:20180109
DTEND;VALUE=DATE:20180111
DTSTAMP;VALUE=DATE-TIME:20210604T044223Z
UID:6ffb01c9915340b0af0362eeeacd34cd@eni-seis.eionet.europa.eu
CREATED;VALUE=DATE-TIME:20180110T132346Z
LAST-MODIFIED;VALUE=DATE-TIME:20180201T100308Z
URL:https://eni-seis-staging.eionet.europa.eu/east/areas-of-work/communica
 tion/events/project-related-events/thematic-workshop-on-the-implementation
 -of-the-water-component-of-the-eni-seis-ii-east-project-in-belarus
END:VEVENT
END:VCALENDAR
