BEGIN:VCALENDAR
VERSION:2.0
PRODID:-//Plone.org//NONSGML plone.app.event//EN
X-WR-TIMEZONE:Europe/Copenhagen
BEGIN:VEVENT
SUMMARY:Georgia: thematic workshop on the implementation of the water comp
 onent of the ENI SEIS II East project
DTSTART;TZID=Europe/Copenhagen;VALUE=DATE-TIME:20171106T090000
DTEND;TZID=Europe/Copenhagen;VALUE=DATE-TIME:20171107T173000
DTSTAMP;VALUE=DATE-TIME:20210604T044836Z
UID:884c8b7cc79d45ad87e9631efbdf41f9@eni-seis.eionet.europa.eu
CREATED;VALUE=DATE-TIME:20171027T095737Z
LAST-MODIFIED;VALUE=DATE-TIME:20180208T105648Z
URL:https://eni-seis-staging.eionet.europa.eu/east/areas-of-work/communica
 tion/events/project-related-events/thematic-workshop-on-the-implementation
 -of-the-water-component-of-the-eni-seis-ii-east-project-in-georgia
END:VEVENT
BEGIN:VTIMEZONE
TZID:Europe/Copenhagen
X-LIC-LOCATION:Europe/Copenhagen
BEGIN:STANDARD
DTSTART;VALUE=DATE-TIME:20171029T020000
TZNAME:CET
TZOFFSETFROM:+0200
TZOFFSETTO:+0100
END:STANDARD
END:VTIMEZONE
END:VCALENDAR
